BEGIN:VCALENDAR
VERSION:2.0
PRODID:-//DRRROOMLAND - ECPv6.15.20//NONSGML v1.0//EN
CALSCALE:GREGORIAN
METHOD:PUBLISH
X-WR-CALNAME:DRRROOMLAND
X-ORIGINAL-URL:https://drrroomland.nl
X-WR-CALDESC:Evenementen voor DRRROOMLAND
REFRESH-INTERVAL;VALUE=DURATION:PT1H
X-Robots-Tag:noindex
X-PUBLISHED-TTL:PT1H
BEGIN:VTIMEZONE
TZID:Europe/Amsterdam
BEGIN:DAYLIGHT
TZOFFSETFROM:+0100
TZOFFSETTO:+0200
TZNAME:CEST
DTSTART:20250330T010000
END:DAYLIGHT
BEGIN:STANDARD
TZOFFSETFROM:+0200
TZOFFSETTO:+0100
TZNAME:CET
DTSTART:20251026T010000
END:STANDARD
BEGIN:DAYLIGHT
TZOFFSETFROM:+0100
TZOFFSETTO:+0200
TZNAME:CEST
DTSTART:20260329T010000
END:DAYLIGHT
BEGIN:STANDARD
TZOFFSETFROM:+0200
TZOFFSETTO:+0100
TZNAME:CET
DTSTART:20261025T010000
END:STANDARD
BEGIN:DAYLIGHT
TZOFFSETFROM:+0100
TZOFFSETTO:+0200
TZNAME:CEST
DTSTART:20270328T010000
END:DAYLIGHT
BEGIN:STANDARD
TZOFFSETFROM:+0200
TZOFFSETTO:+0100
TZNAME:CET
DTSTART:20271031T010000
END:STANDARD
END:VTIMEZONE
BEGIN:VEVENT
DTSTART;TZID=Europe/Amsterdam:20260509T130000
DTEND;TZID=Europe/Amsterdam:20260509T163000
DTSTAMP:20260422T224600
CREATED:20260422T100854Z
LAST-MODIFIED:20260422T120306Z
UID:5579-1778331600-1778344200@drrroomland.nl
SUMMARY:Stekjesmarkt 2026
DESCRIPTION:Zet zaterdag 9 mei in je agenda… \n 
URL:https://drrroomland.nl/evenement/stekjesmarkt/
LOCATION:Drrroomland\, Tsjaikofskilaan 25\, Rotterdam\, 3055 KP\, Netherlands
ATTACH;FMTTYPE=image/jpeg:https://drrroomland.nl/wp-content/uploads/2025/05/IMG-20250510-WA0029-e1776858633752.jpg
END:VEVENT
BEGIN:VEVENT
DTSTART;TZID=Europe/Amsterdam:20260503T110000
DTEND;TZID=Europe/Amsterdam:20260503T140000
DTSTAMP:20260422T224600
CREATED:20260422T101410Z
LAST-MODIFIED:20260422T115348Z
UID:5585-1777806000-1777816800@drrroomland.nl
SUMMARY:Onderhoudsweekeinde
DESCRIPTION:Meld je hier aan voor het onderhoudsweekend.
URL:https://drrroomland.nl/evenement/onderhoudsweekeinde-2/
END:VEVENT
BEGIN:VEVENT
DTSTART;TZID=Europe/Amsterdam:20260502T130000
DTEND;TZID=Europe/Amsterdam:20260502T170000
DTSTAMP:20260422T224600
CREATED:20260422T101332Z
LAST-MODIFIED:20260422T101931Z
UID:5582-1777726800-1777741200@drrroomland.nl
SUMMARY:Onderhoudsweekeinde
DESCRIPTION:Meld je hier aan voor het onderhoudsweekend.
URL:https://drrroomland.nl/evenement/onderhoudsweekeinde/
END:VEVENT
END:VCALENDAR